BEGIN:VCALENDAR
VERSION:2.0
PRODID:-//The Guardians of Martin County - ECPv6.15.20//NONSGML v1.0//EN
CALSCALE:GREGORIAN
METHOD:PUBLISH
X-ORIGINAL-URL:https://theguardiansofmartincounty.com
X-WR-CALDESC:Events for The Guardians of Martin County
REFRESH-INTERVAL;VALUE=DURATION:PT1H
X-Robots-Tag:noindex
X-PUBLISHED-TTL:PT1H
BEGIN:VTIMEZONE
TZID:America/New_York
BEGIN:DAYLIGHT
TZOFFSETFROM:-0500
TZOFFSETTO:-0400
TZNAME:EDT
DTSTART:20220313T070000
END:DAYLIGHT
BEGIN:STANDARD
TZOFFSETFROM:-0400
TZOFFSETTO:-0500
TZNAME:EST
DTSTART:20221106T060000
END:STANDARD
BEGIN:DAYLIGHT
TZOFFSETFROM:-0500
TZOFFSETTO:-0400
TZNAME:EDT
DTSTART:20230312T070000
END:DAYLIGHT
BEGIN:STANDARD
TZOFFSETFROM:-0400
TZOFFSETTO:-0500
TZNAME:EST
DTSTART:20231105T060000
END:STANDARD
BEGIN:DAYLIGHT
TZOFFSETFROM:-0500
TZOFFSETTO:-0400
TZNAME:EDT
DTSTART:20240310T070000
END:DAYLIGHT
BEGIN:STANDARD
TZOFFSETFROM:-0400
TZOFFSETTO:-0500
TZNAME:EST
DTSTART:20241103T060000
END:STANDARD
BEGIN:DAYLIGHT
TZOFFSETFROM:-0500
TZOFFSETTO:-0400
TZNAME:EDT
DTSTART:20250309T070000
END:DAYLIGHT
BEGIN:STANDARD
TZOFFSETFROM:-0400
TZOFFSETTO:-0500
TZNAME:EST
DTSTART:20251102T060000
END:STANDARD
END:VTIMEZONE
BEGIN:VEVENT
DTSTART;TZID=America/New_York:20240201T190000
DTEND;TZID=America/New_York:20240201T210000
DTSTAMP:20260424T035603
CREATED:20240125T151053Z
LAST-MODIFIED:20240125T151053Z
UID:8521-1706814000-1706821200@theguardiansofmartincounty.com
SUMMARY:LOCAL PLANNING AGENCY
DESCRIPTION:These meetings will be televised live on MCTV Channel 20 (Comcast)\, Channel 99 (U-verse)\, and online at www.martin.fl.us.
URL:https://theguardiansofmartincounty.com/event/local-planning-agency/
LOCATION:City of Stuart City Hall – Commissions Chambers\, 121 SW Flagler Ave\, Stuart\, FL\, 34995
END:VEVENT
BEGIN:VEVENT
DTSTART;TZID=America/New_York:20240201T163000
DTEND;TZID=America/New_York:20240201T180000
DTSTAMP:20260424T035603
CREATED:20240125T153411Z
LAST-MODIFIED:20240125T153445Z
UID:8527-1706805000-1706810400@theguardiansofmartincounty.com
SUMMARY:PARKS AND RECREATION ADVISORY BOARD
DESCRIPTION:Location: Growth Management Department Conference Room (1st floor)
URL:https://theguardiansofmartincounty.com/event/parks-and-recreation-advisory-board/
LOCATION:Martin Growth Managment\, 2401 SE Monterey Rd.\, Stuart\, FL\, 34996\, United States
END:VEVENT
BEGIN:VEVENT
DTSTART;VALUE=DATE:20240130
DTEND;VALUE=DATE:20240131
DTSTAMP:20260424T035603
CREATED:20240126T203331Z
LAST-MODIFIED:20240126T203346Z
UID:8533-1706572800-1706659199@theguardiansofmartincounty.com
SUMMARY:Florida Horseshoe Crab Watch Statewide Citizen Science Program
DESCRIPTION:Horseshoe crabs are an example of a living fossil whose ancestors have roamed Earth’s oceans for nearly 450 million years. Get a glimpse into the prehistoric past as you learn more about horseshoe crabs\, and efforts that are underway to protect and conserve this important species in Florida. \nPresented by Holly Abeels\, Florida Sea Grant Extension Agent\, University of Florida IFAS \nNo registration required to attend in person. \nTo attend virtually via Zoom\, please register HERE.
URL:https://theguardiansofmartincounty.com/event/florida-horseshoe-crab-watch-statewide-citizen-science-program/
LOCATION:FL
END:VEVENT
BEGIN:VEVENT
DTSTART;TZID=America/New_York:20231214T180000
DTEND;TZID=America/New_York:20231214T190000
DTSTAMP:20260424T035603
CREATED:20230928T160054Z
LAST-MODIFIED:20230928T160054Z
UID:8403-1702576800-1702580400@theguardiansofmartincounty.com
SUMMARY:Port Salerno Neighborhood Advisory Committee
DESCRIPTION:
URL:https://theguardiansofmartincounty.com/event/port-salerno-neighborhood-advisory-committee-2/
LOCATION:Port Salerno Civic Center\, 4940 SE Anchor Ave\, Stuart\, FL\, 34997\, United States
END:VEVENT
BEGIN:VEVENT
DTSTART;TZID=America/New_York:20231214T160000
DTEND;TZID=America/New_York:20231214T173000
DTSTAMP:20260424T035603
CREATED:20231116T192448Z
LAST-MODIFIED:20231116T192646Z
UID:8448-1702569600-1702575000@theguardiansofmartincounty.com
SUMMARY:The Guardians of Martin County Annual Meeting
DESCRIPTION:Guardians of Martin County Annual Meeting \n \n 
URL:https://theguardiansofmartincounty.com/event/the-guardians-of-martin-county-annual-meeting/
LOCATION:Jupiter Island Town Hall\, 2 SE Bridge Rd.\, Hobe Sound\, FL\, 33455\, United States
ORGANIZER;CN="The Guardians of Martin County":MAILTO:info@theguardiansofmartincounty.com
END:VEVENT
BEGIN:VEVENT
DTSTART;TZID=America/New_York:20231212T090000
DTEND;TZID=America/New_York:20231212T100000
DTSTAMP:20260424T035603
CREATED:20230928T155522Z
LAST-MODIFIED:20230928T161707Z
UID:8399-1702371600-1702375200@theguardiansofmartincounty.com
SUMMARY:Board of County Commissioners
DESCRIPTION:
URL:https://theguardiansofmartincounty.com/event/board-of-county-commissioners-7/
LOCATION:BOCC Commissions Chamber\, 2401 SE Monterey Rd.\, Stuart\, FL\, 34996\, United States
END:VEVENT
BEGIN:VEVENT
DTSTART;TZID=America/New_York:20231205T090000
DTEND;TZID=America/New_York:20231205T100000
DTSTAMP:20260424T035603
CREATED:20230928T155432Z
LAST-MODIFIED:20230928T161629Z
UID:8397-1701766800-1701770400@theguardiansofmartincounty.com
SUMMARY:Board of County Commissioners
DESCRIPTION:BOCC Regular Meeting & annual BOCC Organization
URL:https://theguardiansofmartincounty.com/event/board-of-county-commissioners-6/
LOCATION:BOCC Commissions Chamber\, 2401 SE Monterey Rd.\, Stuart\, FL\, 34996\, United States
END:VEVENT
BEGIN:VEVENT
DTSTART;TZID=America/New_York:20231121T090000
DTEND;TZID=America/New_York:20231121T100000
DTSTAMP:20260424T035603
CREATED:20230928T155328Z
LAST-MODIFIED:20230928T161552Z
UID:8395-1700557200-1700560800@theguardiansofmartincounty.com
SUMMARY:Board of County Commissioners
DESCRIPTION:
URL:https://theguardiansofmartincounty.com/event/board-of-county-commissioners-5/
LOCATION:BOCC Commissions Chamber\, 2401 SE Monterey Rd.\, Stuart\, FL\, 34996\, United States
END:VEVENT
BEGIN:VEVENT
DTSTART;TZID=America/New_York:20231116T110000
DTEND;TZID=America/New_York:20231116T123000
DTSTAMP:20260424T035603
CREATED:20230928T152345Z
LAST-MODIFIED:20230928T152345Z
UID:8382-1700132400-1700137800@theguardiansofmartincounty.com
SUMMARY:Rivers Coalition
DESCRIPTION:
URL:https://theguardiansofmartincounty.com/event/rivers-coalition-3/
LOCATION:City of Stuart City Hall – Commissions Chambers\, 121 SW Flagler Ave\, Stuart\, FL\, 34995
END:VEVENT
BEGIN:VEVENT
DTSTART;TZID=America/New_York:20231107T090000
DTEND;TZID=America/New_York:20231107T100000
DTSTAMP:20260424T035603
CREATED:20230928T155212Z
LAST-MODIFIED:20230928T161453Z
UID:8393-1699347600-1699351200@theguardiansofmartincounty.com
SUMMARY:Board of County Commissioners
DESCRIPTION:
URL:https://theguardiansofmartincounty.com/event/board-of-county-commissioners-4/
LOCATION:BOCC Commissions Chamber\, 2401 SE Monterey Rd.\, Stuart\, FL\, 34996\, United States
END:VEVENT
BEGIN:VEVENT
DTSTART;TZID=America/New_York:20231026T110000
DTEND;TZID=America/New_York:20231026T123000
DTSTAMP:20260424T035603
CREATED:20230928T152217Z
LAST-MODIFIED:20230928T152217Z
UID:8380-1698318000-1698323400@theguardiansofmartincounty.com
SUMMARY:Rivers Coalition
DESCRIPTION:
URL:https://theguardiansofmartincounty.com/event/rivers-coalition-2/
LOCATION:City of Stuart City Hall – Commissions Chambers\, 121 SW Flagler Ave\, Stuart\, FL\, 34995
END:VEVENT
BEGIN:VEVENT
DTSTART;TZID=America/New_York:20231025T160000
DTEND;TZID=America/New_York:20231025T170000
DTSTAMP:20260424T035603
CREATED:20230928T162526Z
LAST-MODIFIED:20230928T162526Z
UID:8413-1698249600-1698253200@theguardiansofmartincounty.com
SUMMARY:Construction Industry Licensing Board
DESCRIPTION:
URL:https://theguardiansofmartincounty.com/event/construction-industry-licensing-board/
LOCATION:BOCC Commissions Chamber\, 2401 SE Monterey Rd.\, Stuart\, FL\, 34996\, United States
END:VEVENT
BEGIN:VEVENT
DTSTART;TZID=America/New_York:20231024T090000
DTEND;TZID=America/New_York:20231024T100000
DTSTAMP:20260424T035603
CREATED:20230928T155051Z
LAST-MODIFIED:20230928T161425Z
UID:8391-1698138000-1698141600@theguardiansofmartincounty.com
SUMMARY:Board of County Commissioners
DESCRIPTION:
URL:https://theguardiansofmartincounty.com/event/board-of-county-commissioners-3/
LOCATION:BOCC Commissions Chamber\, 2401 SE Monterey Rd.\, Stuart\, FL\, 34996\, United States
END:VEVENT
BEGIN:VEVENT
DTSTART;TZID=America/New_York:20231023T150000
DTEND;TZID=America/New_York:20231023T160000
DTSTAMP:20260424T035603
CREATED:20230928T162401Z
LAST-MODIFIED:20230928T162401Z
UID:8411-1698073200-1698076800@theguardiansofmartincounty.com
SUMMARY:Community Redevelopment Agency
DESCRIPTION:
URL:https://theguardiansofmartincounty.com/event/community-redevelopment-agency/
LOCATION:BOCC Commissions Chamber\, 2401 SE Monterey Rd.\, Stuart\, FL\, 34996\, United States
END:VEVENT
BEGIN:VEVENT
DTSTART;TZID=America/New_York:20231019T090000
DTEND;TZID=America/New_York:20231019T120000
DTSTAMP:20260424T035603
CREATED:20230928T154847Z
LAST-MODIFIED:20230928T154847Z
UID:8388-1697706000-1697716800@theguardiansofmartincounty.com
SUMMARY:Board of County Commissioners
DESCRIPTION:Joint Meeting with the Stuart City Commission\, School Board & Village of Indiantown Council (School Board will Chair)
URL:https://theguardiansofmartincounty.com/event/board-of-county-commissioners-2/
LOCATION:John F. & Rita M. Armstrong Wing\, Blake Library\, 2351 SE Monterey Rd\, Stuart\, FL\, 34996\, United States
END:VEVENT
BEGIN:VEVENT
DTSTART;TZID=America/New_York:20231016T180000
DTEND;TZID=America/New_York:20231016T190000
DTSTAMP:20260424T035603
CREATED:20230928T162059Z
LAST-MODIFIED:20230928T162059Z
UID:8408-1697479200-1697482800@theguardiansofmartincounty.com
SUMMARY:Old Palm City Neighborhood Advisory Committee
DESCRIPTION:
URL:https://theguardiansofmartincounty.com/event/old-palm-city-neighborhood-advisory-committee/
LOCATION:Palm City Community Center\, 2701 SW Cornell Ave\, Palm City\, FL\, 34990\, United States
END:VEVENT
BEGIN:VEVENT
DTSTART;TZID=America/New_York:20231016T160000
DTEND;TZID=America/New_York:20231016T170000
DTSTAMP:20260424T035603
CREATED:20230928T161050Z
LAST-MODIFIED:20230928T161050Z
UID:8405-1697472000-1697475600@theguardiansofmartincounty.com
SUMMARY:Historic Preservation Board
DESCRIPTION:
URL:https://theguardiansofmartincounty.com/event/historic-preservation-board/
LOCATION:BOCC Commissions Chamber\, 2401 SE Monterey Rd.\, Stuart\, FL\, 34996\, United States
END:VEVENT
BEGIN:VEVENT
DTSTART;TZID=America/New_York:20231012T180000
DTEND;TZID=America/New_York:20231012T190000
DTSTAMP:20260424T035603
CREATED:20230928T155943Z
LAST-MODIFIED:20230928T155943Z
UID:8401-1697133600-1697137200@theguardiansofmartincounty.com
SUMMARY:Port Salerno Neighborhood Advisory Committee
DESCRIPTION:
URL:https://theguardiansofmartincounty.com/event/port-salerno-neighborhood-advisory-committee/
LOCATION:Port Salerno Civic Center\, 4940 SE Anchor Ave\, Stuart\, FL\, 34997\, United States
END:VEVENT
BEGIN:VEVENT
DTSTART;TZID=America/New_York:20231010T090000
DTEND;TZID=America/New_York:20231010T100000
DTSTAMP:20260424T035603
CREATED:20230928T154130Z
LAST-MODIFIED:20230928T161309Z
UID:8385-1696928400-1696932000@theguardiansofmartincounty.com
SUMMARY:Board of County Commissioners
DESCRIPTION:
URL:https://theguardiansofmartincounty.com/event/board-of-county-commissioners/
LOCATION:BOCC Commissions Chamber\, 2401 SE Monterey Rd.\, Stuart\, FL\, 34996\, United States
END:VEVENT
BEGIN:VEVENT
DTSTART;TZID=America/New_York:20230928T110000
DTEND;TZID=America/New_York:20230928T123000
DTSTAMP:20260424T035603
CREATED:20230928T152020Z
LAST-MODIFIED:20230928T152434Z
UID:8377-1695898800-1695904200@theguardiansofmartincounty.com
SUMMARY:Rivers Coalition
DESCRIPTION:
URL:https://theguardiansofmartincounty.com/event/rivers-coalition/
LOCATION:City of Stuart City Hall – Commissions Chambers\, 121 SW Flagler Ave\, Stuart\, FL\, 34995
END:VEVENT
END:VCALENDAR