BEGIN:VCALENDAR
VERSION:2.0
PRODID:-//The Guardians of Martin County - ECPv6.15.20//NONSGML v1.0//EN
CALSCALE:GREGORIAN
METHOD:PUBLISH
X-WR-CALNAME:The Guardians of Martin County
X-ORIGINAL-URL:https://theguardiansofmartincounty.com
X-WR-CALDESC:Events for The Guardians of Martin County
REFRESH-INTERVAL;VALUE=DURATION:PT1H
X-Robots-Tag:noindex
X-PUBLISHED-TTL:PT1H
BEGIN:VTIMEZONE
TZID:America/New_York
BEGIN:DAYLIGHT
TZOFFSETFROM:-0500
TZOFFSETTO:-0400
TZNAME:EDT
DTSTART:20220313T070000
END:DAYLIGHT
BEGIN:STANDARD
TZOFFSETFROM:-0400
TZOFFSETTO:-0500
TZNAME:EST
DTSTART:20221106T060000
END:STANDARD
BEGIN:DAYLIGHT
TZOFFSETFROM:-0500
TZOFFSETTO:-0400
TZNAME:EDT
DTSTART:20230312T070000
END:DAYLIGHT
BEGIN:STANDARD
TZOFFSETFROM:-0400
TZOFFSETTO:-0500
TZNAME:EST
DTSTART:20231105T060000
END:STANDARD
BEGIN:DAYLIGHT
TZOFFSETFROM:-0500
TZOFFSETTO:-0400
TZNAME:EDT
DTSTART:20240310T070000
END:DAYLIGHT
BEGIN:STANDARD
TZOFFSETFROM:-0400
TZOFFSETTO:-0500
TZNAME:EST
DTSTART:20241103T060000
END:STANDARD
BEGIN:DAYLIGHT
TZOFFSETFROM:-0500
TZOFFSETTO:-0400
TZNAME:EDT
DTSTART:20250309T070000
END:DAYLIGHT
BEGIN:STANDARD
TZOFFSETFROM:-0400
TZOFFSETTO:-0500
TZNAME:EST
DTSTART:20251102T060000
END:STANDARD
END:VTIMEZONE
BEGIN:VEVENT
DTSTART;TZID=America/New_York:20241105T070000
DTEND;TZID=America/New_York:20241105T190000
DTSTAMP:20260424T002753
CREATED:20240709T191137Z
LAST-MODIFIED:20240709T191137Z
UID:8878-1730790000-1730833200@theguardiansofmartincounty.com
SUMMARY:Martin County - General Election
DESCRIPTION:All precincts are are open 7am to 7pm. \nTo find your precinct polling location\, visit the Martin County Supervisor of Elections.
URL:https://theguardiansofmartincounty.com/event/martin-county-general-election/
END:VEVENT
BEGIN:VEVENT
DTSTART;TZID=America/New_York:20240820T070000
DTEND;TZID=America/New_York:20240820T190000
DTSTAMP:20260424T002753
CREATED:20240709T190702Z
LAST-MODIFIED:20240709T190934Z
UID:8876-1724137200-1724180400@theguardiansofmartincounty.com
SUMMARY:Martin County - Primary Election Day
DESCRIPTION:All precincts are are open 7am to 7pm. \nTo find your precinct polling location\, visit the Martin County Supervisor of Elections.
URL:https://theguardiansofmartincounty.com/event/martin-county-primary-election-day/
END:VEVENT
BEGIN:VEVENT
DTSTART;TZID=America/New_York:20240718T173000
DTEND;TZID=America/New_York:20240718T193000
DTSTAMP:20260424T002753
CREATED:20240702T172733Z
LAST-MODIFIED:20240702T182456Z
UID:8853-1721323800-1721331000@theguardiansofmartincounty.com
SUMMARY:FDOT Meeting: New Direct Connection Interchange between Turnpike and I-95 at SE Bridge Rd. - Part 2
DESCRIPTION:PROJECT DEVELOPMENT AND ENVIRONMENT (PD&E) STUDY IN MARTIN COUNTY\nFlorida Department of Transportation (FDOT)\, Florida’s Turnpike Enterprise (Enterprise) is conducting a PD&E Study for a new interchange along Florida’s Turnpike (SR 91) in Martin County\, Florida. The project will evaluate the addition of a new system-to-system interchange between Florida’s Turnpike and Interstate 95 (I-95/SR 9) in the vicinity of the I-95/SE Bridge Road interchange. \nMore information about the project can be found at www.TPK-I-95-Interchange-Study.com which also has links where you can provide questions &/or comments. \nThe in-person public meeting will be held on Thursday\, July 18\, 2024\, at the Clare & Gladys Wolf High – Technology Center located at Indian River State College 2400 S.E. Salerno Road Stuart\, Florida 34997. The doors will open at 5:30 p.m. and close at 7:30 p.m. The in-person meeting will be conducted in an informal\, open house format. Registration is encouraged\, but not required for in-person attendance. \nCLICK HERE TO REGISTER.
URL:https://theguardiansofmartincounty.com/event/new-direct-connection-interchange-between-turnpike-and-i-95-at-se-bridge-rd-part-2/
LOCATION:Indian River State College\,  Susan H. Johnson Auditorium\, Wolf High-Technology Center\, 2400 SE Salerno Road\, Stuart\, FL\, 34997
END:VEVENT
BEGIN:VEVENT
DTSTART;TZID=America/New_York:20240717T180000
DTEND;TZID=America/New_York:20240717T193000
DTSTAMP:20260424T002753
CREATED:20240702T172413Z
LAST-MODIFIED:20240702T173128Z
UID:8844-1721239200-1721244600@theguardiansofmartincounty.com
SUMMARY:FDOT Meeting: New Direct Connection Interchange between Turnpike and I-95 at SE Bridge Rd. - Part 1
DESCRIPTION:PROJECT DEVELOPMENT AND ENVIRONMENT (PD&E) STUDY IN MARTIN COUNTY\nFlorida Department of Transportation (FDOT)\, Florida’s Turnpike Enterprise (Enterprise) is conducting a PD&E Study for a new interchange along Florida’s Turnpike (SR 91) in Martin County\, Florida. The project will evaluate the addition of a new system-to-system interchange between Florida’s Turnpike and Interstate 95 (I-95/SR 9) in the vicinity of the I-95/SE Bridge Road interchange. \nMore information about the project can be found at www.TPK-I-95-Interchange-Study.com which also has links where you can provide questions &/or comments. \nCLICK HERE TO REGISTER. You will receive instructions from the Florida DOT after registering.
URL:https://theguardiansofmartincounty.com/event/new-direct-connection-interchange-between-turnpike-and-i-95-at-se-bridge-rd/
LOCATION:On Line
END:VEVENT
BEGIN:VEVENT
DTSTART;VALUE=DATE:20240312
DTEND;VALUE=DATE:20240313
DTSTAMP:20260424T002753
CREATED:20240126T203827Z
LAST-MODIFIED:20240126T203827Z
UID:8546-1710201600-1710287999@theguardiansofmartincounty.com
SUMMARY:The Sound of the Sea: Seashells and the Fate of the Oceans
DESCRIPTION:The allure of seashells is primal. Today\, as in the past\, seashells provide an immediately recognizable link to the ocean. Examine the ancient human fascination with seashells\, their history as currency\, their use as religious and luxury objects\, and what they reveal about Earth’s changing climate. \nPresented by Cynthia Barnett\, Author\, Senior Lecturer\, and Environmental Journalist in Residence\, University of Florida \nNo registration required to attend in person. \nTo attend virtually via Zoom\, please register HERE. \nThis presentation is supported in part by a grant from Florida Humanities.
URL:https://theguardiansofmartincounty.com/event/the-sound-of-the-sea-seashells-and-the-fate-of-the-oceans/
END:VEVENT
BEGIN:VEVENT
DTSTART;VALUE=DATE:20240305
DTEND;VALUE=DATE:20240306
DTSTAMP:20260424T002753
CREATED:20240126T203746Z
LAST-MODIFIED:20240126T203746Z
UID:8544-1709596800-1709683199@theguardiansofmartincounty.com
SUMMARY:Everglades Restoration Progress: Building Resilience for South Florida
DESCRIPTION:For more than two decades\, extensive efforts have been underway to reverse previous damage inflicted upon the Everglades. Get caught up on the history of Everglades drainage\, the progress of ongoing restoration projects\, and the benefits that Everglades restoration provides for all of us. \nPresented by Dr. Steve Davis\, Chief Science Officer\, The Everglades Foundation \nNo registration required to attend in person. \nTo attend virtually via Zoom\, please register HERE.
URL:https://theguardiansofmartincounty.com/event/everglades-restoration-progress-building-resilience-for-south-florida/
END:VEVENT
BEGIN:VEVENT
DTSTART;TZID=America/New_York:20240228T081500
DTEND;TZID=America/New_York:20240228T110000
DTSTAMP:20260424T002753
CREATED:20240125T144244Z
LAST-MODIFIED:20240222T154610Z
UID:8511-1709108100-1709118000@theguardiansofmartincounty.com
SUMMARY:STATE OF THE COUNTY ADDRESS
DESCRIPTION:Please join us as we take a look\nback at the highlights and\naccomplishments of 2023. \n  \nWednesday\, February 28\nPalm City New Hope\n3900 SW Citrus Boulevard\, Palm City \nDoors open at 8:15 a.m.\nLight breakfast served from 8:15-9:00 a.m.\nProgram begins at 9:00 a.m. \nRSVP required by February 21\nTo RSVP\, call 772-288-5946\nor email dstonebraker@martin.fl.us
URL:https://theguardiansofmartincounty.com/event/state-of-the-county-address/
LOCATION:Palm City New Hope\, 3900 SW Citrus Boulevard\, Palm City\, FL\, 34990\, United States
END:VEVENT
BEGIN:VEVENT
DTSTART;VALUE=DATE:20240227
DTEND;VALUE=DATE:20240228
DTSTAMP:20260424T002753
CREATED:20240126T203659Z
LAST-MODIFIED:20240126T203659Z
UID:8542-1708992000-1709078399@theguardiansofmartincounty.com
SUMMARY:Who Made the Everglades? The Archeological History of Florida’s Everglades
DESCRIPTION:The earliest inhabitants of Florida had a profound and lasting influence on the land that sustained their civilizations. Take a geological and cultural journey back in time to see how Florida’s early Native American inhabitants helped to shape the Everglades that we know today. \nPresented by Sara Ayers-Rigsby\, Region Director\, Florida Public Archaeology Network\, Florida Atlantic University \nNo registration required to attend in person. \nTo attend virtually via Zoom\, please register HERE.
URL:https://theguardiansofmartincounty.com/event/who-made-the-everglades-the-archeological-history-of-floridas-everglades/
END:VEVENT
BEGIN:VEVENT
DTSTART;TZID=America/New_York:20240226T150000
DTEND;TZID=America/New_York:20240226T170000
DTSTAMP:20260424T002753
CREATED:20240222T153222Z
LAST-MODIFIED:20240222T153222Z
UID:8587-1708959600-1708966800@theguardiansofmartincounty.com
SUMMARY:CRA Board Meeting
DESCRIPTION:Martin County Office of Community Development \nDear Community Member\, \nThe next CRA Board Meeting will be on Monday\, February 26\, 2024\, at 3:00 PM. \n This meeting will take place at the Martin County Administration Building Commission Chambers located at 2401 SE Monterey Road\, Stuart\, FL 34996. \nThe agenda can be viewed here: Agenda \nRemember that CRA meetings are open to the public and community participation is encouraged.
URL:https://theguardiansofmartincounty.com/event/cra-board-meeting/
LOCATION:City of Stuart City Hall – Commissions Chambers\, 121 SW Flagler Ave\, Stuart\, FL\, 34995
END:VEVENT
BEGIN:VEVENT
DTSTART;TZID=America/New_York:20240220T090000
DTEND;TZID=America/New_York:20240220T110000
DTSTAMP:20260424T002753
CREATED:20240125T153624Z
LAST-MODIFIED:20240125T153624Z
UID:8531-1708419600-1708426800@theguardiansofmartincounty.com
SUMMARY:BOARD OF COUNTY COMMISSIONERS
DESCRIPTION:These meetings will be televised live on MCTV Channel 20 (Comcast)\, Channel 99 (U-verse)\, and online at www.martin.fl.us.
URL:https://theguardiansofmartincounty.com/event/board-of-county-commissioners-9/
LOCATION:City of Stuart City Hall – Commissions Chambers\, 121 SW Flagler Ave\, Stuart\, FL\, 34995
END:VEVENT
BEGIN:VEVENT
DTSTART;VALUE=DATE:20240220
DTEND;VALUE=DATE:20240221
DTSTAMP:20260424T002753
CREATED:20240126T203626Z
LAST-MODIFIED:20240126T203626Z
UID:8540-1708387200-1708473599@theguardiansofmartincounty.com
SUMMARY:Dating and Mating in the Fish World: The Fascinating\, the Shocking\, and the Downright Bizarre
DESCRIPTION:Many fish take mating and reproduction to a level that is far beyond the realm of “normal” when viewed through the human lens. Learn about some of the weirdest reproductive strategies in the animal kingdom\, including gender reversals\, self-fertilization\, sexual parasitism\, and much more (PG13). \nPresented by Dr. Zack Jud\, Director of Education\, Florida Oceanographic Society \nNo registration required to attend in person. \nTo attend virtually via Zoom\, please register HERE.
URL:https://theguardiansofmartincounty.com/event/dating-and-mating-in-the-fish-world-the-fascinating-the-shocking-and-the-downright-bizarre/
END:VEVENT
BEGIN:VEVENT
DTSTART;TZID=America/New_York:20240219T160000
DTEND;TZID=America/New_York:20240219T180000
DTSTAMP:20260424T002753
CREATED:20240125T144953Z
LAST-MODIFIED:20240125T150742Z
UID:8519-1708358400-1708365600@theguardiansofmartincounty.com
SUMMARY:HISTORIC PRESERVATION BOARD
DESCRIPTION:
URL:https://theguardiansofmartincounty.com/event/historic-preservation-board-2/
LOCATION:City of Stuart City Hall – Commissions Chambers\, 121 SW Flagler Ave\, Stuart\, FL\, 34995
END:VEVENT
BEGIN:VEVENT
DTSTART;TZID=America/New_York:20240215T190000
DTEND;TZID=America/New_York:20240215T210000
DTSTAMP:20260424T002753
CREATED:20240125T151241Z
LAST-MODIFIED:20240125T151241Z
UID:8524-1708023600-1708030800@theguardiansofmartincounty.com
SUMMARY:LOCAL PLANNING AGENCY
DESCRIPTION:These meetings will be televised live on MCTV Channel 20 (Comcast)\, Channel 99 (U-verse)\, and online at www.martin.fl.us
URL:https://theguardiansofmartincounty.com/event/local-planning-agency-2/
LOCATION:City of Stuart City Hall – Commissions Chambers\, 121 SW Flagler Ave\, Stuart\, FL\, 34995
END:VEVENT
BEGIN:VEVENT
DTSTART;VALUE=DATE:20240213
DTEND;VALUE=DATE:20240214
DTSTAMP:20260424T002753
CREATED:20240126T203531Z
LAST-MODIFIED:20240126T203531Z
UID:8538-1707782400-1707868799@theguardiansofmartincounty.com
SUMMARY:Microbes\, Chemistry\, and Coral Sex
DESCRIPTION:Some of the ocean’s smallest organisms can have a huge impact on one of the planet’s most important ecosystems. Explore the role that tiny microbes play in the health\, growth\, and reproduction of corals\, and what these interactions mean for Earth’s critically threatened coral reefs. \nPresented by Dr. Jennifer Sneed\, Research Biologist\, Smithsonian Marine Station \nNo registration required to attend in person. \nTo attend virtually via Zoom\, please register HERE.
URL:https://theguardiansofmartincounty.com/event/microbes-chemistry-and-coral-sex/
END:VEVENT
BEGIN:VEVENT
DTSTART;TZID=America/New_York:20240207T090000
DTEND;TZID=America/New_York:20240207T110000
DTSTAMP:20260424T002753
CREATED:20240125T144404Z
LAST-MODIFIED:20240125T144404Z
UID:8514-1707296400-1707303600@theguardiansofmartincounty.com
SUMMARY:CITIZEN’S ADVISORY COMMITTEE of the Metropolitan Planning Organization
DESCRIPTION:
URL:https://theguardiansofmartincounty.com/event/citizens-advisory-committee-of-the-metropolitan-planning-organization/
LOCATION:City of Stuart City Hall – Commissions Chambers\, 121 SW Flagler Ave\, Stuart\, FL\, 34995
END:VEVENT
BEGIN:VEVENT
DTSTART;TZID=America/New_York:20240206T090000
DTEND;TZID=America/New_York:20240206T110000
DTSTAMP:20260424T002753
CREATED:20240125T143751Z
LAST-MODIFIED:20240125T143751Z
UID:8507-1707210000-1707217200@theguardiansofmartincounty.com
SUMMARY:BOARD OF COUNTY COMMISSIONERS
DESCRIPTION:These meetings will be televised live on MCTV Channel 20 (Comcast)\, Channel 99 (U-verse)\, and online at www.martin.fl.us.
URL:https://theguardiansofmartincounty.com/event/board-of-county-commissioners-8/
LOCATION:City of Stuart City Hall – Commissions Chambers\, 121 SW Flagler Ave\, Stuart\, FL\, 34995
END:VEVENT
BEGIN:VEVENT
DTSTART;VALUE=DATE:20240206
DTEND;VALUE=DATE:20240207
DTSTAMP:20260424T002753
CREATED:20240126T203428Z
LAST-MODIFIED:20240126T203456Z
UID:8535-1707177600-1707263999@theguardiansofmartincounty.com
SUMMARY:The History of the Merritt Island National Wildlife Refuge: A Partnership of Rockets and Wildlife
DESCRIPTION:Florida has a rich history of birding and wildlife exploration – a history that helped to shape wildlife conservation today. Discover how early conservation efforts led to the protection of land surrounding the Kennedy Space Center through the creation of the Merritt Island National Wildlife Refuge. \nPresented by Charlie Venuto\, Professor\, American Public University System \nNo registration required to attend in person. \nTo attend virtually via Zoom\, please register HERE.
URL:https://theguardiansofmartincounty.com/event/the-history-of-the-merritt-island-national-wildlife-refuge-a-partnership-of-rockets-and-wildlife/
END:VEVENT
BEGIN:VEVENT
DTSTART;TZID=America/New_York:20240202T090000
DTEND;TZID=America/New_York:20240202T120000
DTSTAMP:20260424T002753
CREATED:20240125T144011Z
LAST-MODIFIED:20240125T144011Z
UID:8509-1706864400-1706875200@theguardiansofmartincounty.com
SUMMARY:JOINT MEETING WITH THE MARTIN COUNTY BOARD OF COUNTY COMMISSIONERS\, THE CITY OF STUART COMMISSIONERS\, THE MARTIN COUNTY SCHOOL BOARD\, AND THE VILLAGE OF INDIANTOWN COUNCIL
DESCRIPTION:This meeting will be televised live on MCTV Channel 20 (Comcast)\, Channel 99 (U-verse)\, and online at www.martin.fl.us
URL:https://theguardiansofmartincounty.com/event/joint-meeting-with-the-martin-county-board-of-county-commissioners-the-city-of-stuart-commissioners-the-martin-county-school-board-and-the-village-of-indiantown-council/
LOCATION:Blake Library\, 2351 SE Monterey Rd\, Stuart\, FL\, 34996\, United States
END:VEVENT
BEGIN:VEVENT
DTSTART;TZID=America/New_York:20240201T190000
DTEND;TZID=America/New_York:20240201T210000
DTSTAMP:20260424T002753
CREATED:20240125T151053Z
LAST-MODIFIED:20240125T151053Z
UID:8521-1706814000-1706821200@theguardiansofmartincounty.com
SUMMARY:LOCAL PLANNING AGENCY
DESCRIPTION:These meetings will be televised live on MCTV Channel 20 (Comcast)\, Channel 99 (U-verse)\, and online at www.martin.fl.us.
URL:https://theguardiansofmartincounty.com/event/local-planning-agency/
LOCATION:City of Stuart City Hall – Commissions Chambers\, 121 SW Flagler Ave\, Stuart\, FL\, 34995
END:VEVENT
BEGIN:VEVENT
DTSTART;TZID=America/New_York:20240201T163000
DTEND;TZID=America/New_York:20240201T180000
DTSTAMP:20260424T002753
CREATED:20240125T153411Z
LAST-MODIFIED:20240125T153445Z
UID:8527-1706805000-1706810400@theguardiansofmartincounty.com
SUMMARY:PARKS AND RECREATION ADVISORY BOARD
DESCRIPTION:Location: Growth Management Department Conference Room (1st floor)
URL:https://theguardiansofmartincounty.com/event/parks-and-recreation-advisory-board/
LOCATION:Martin Growth Managment\, 2401 SE Monterey Rd.\, Stuart\, FL\, 34996\, United States
END:VEVENT
BEGIN:VEVENT
DTSTART;VALUE=DATE:20240130
DTEND;VALUE=DATE:20240131
DTSTAMP:20260424T002753
CREATED:20240126T203331Z
LAST-MODIFIED:20240126T203346Z
UID:8533-1706572800-1706659199@theguardiansofmartincounty.com
SUMMARY:Florida Horseshoe Crab Watch Statewide Citizen Science Program
DESCRIPTION:Horseshoe crabs are an example of a living fossil whose ancestors have roamed Earth’s oceans for nearly 450 million years. Get a glimpse into the prehistoric past as you learn more about horseshoe crabs\, and efforts that are underway to protect and conserve this important species in Florida. \nPresented by Holly Abeels\, Florida Sea Grant Extension Agent\, University of Florida IFAS \nNo registration required to attend in person. \nTo attend virtually via Zoom\, please register HERE.
URL:https://theguardiansofmartincounty.com/event/florida-horseshoe-crab-watch-statewide-citizen-science-program/
END:VEVENT
BEGIN:VEVENT
DTSTART;TZID=America/New_York:20231214T180000
DTEND;TZID=America/New_York:20231214T190000
DTSTAMP:20260424T002753
CREATED:20230928T160054Z
LAST-MODIFIED:20230928T160054Z
UID:8403-1702576800-1702580400@theguardiansofmartincounty.com
SUMMARY:Port Salerno Neighborhood Advisory Committee
DESCRIPTION:
URL:https://theguardiansofmartincounty.com/event/port-salerno-neighborhood-advisory-committee-2/
LOCATION:Port Salerno Civic Center\, 4940 SE Anchor Ave\, Stuart\, FL\, 34997\, United States
END:VEVENT
BEGIN:VEVENT
DTSTART;TZID=America/New_York:20231214T160000
DTEND;TZID=America/New_York:20231214T173000
DTSTAMP:20260424T002753
CREATED:20231116T192448Z
LAST-MODIFIED:20231116T192646Z
UID:8448-1702569600-1702575000@theguardiansofmartincounty.com
SUMMARY:The Guardians of Martin County Annual Meeting
DESCRIPTION:Guardians of Martin County Annual Meeting \n \n 
URL:https://theguardiansofmartincounty.com/event/the-guardians-of-martin-county-annual-meeting/
LOCATION:Jupiter Island Town Hall\, 2 SE Bridge Rd.\, Hobe Sound\, FL\, 33455\, United States
ORGANIZER;CN="The Guardians of Martin County":MAILTO:info@theguardiansofmartincounty.com
END:VEVENT
BEGIN:VEVENT
DTSTART;TZID=America/New_York:20231212T090000
DTEND;TZID=America/New_York:20231212T100000
DTSTAMP:20260424T002753
CREATED:20230928T155522Z
LAST-MODIFIED:20230928T161707Z
UID:8399-1702371600-1702375200@theguardiansofmartincounty.com
SUMMARY:Board of County Commissioners
DESCRIPTION:
URL:https://theguardiansofmartincounty.com/event/board-of-county-commissioners-7/
LOCATION:BOCC Commissions Chamber\, 2401 SE Monterey Rd.\, Stuart\, FL\, 34996\, United States
END:VEVENT
BEGIN:VEVENT
DTSTART;TZID=America/New_York:20231205T090000
DTEND;TZID=America/New_York:20231205T100000
DTSTAMP:20260424T002753
CREATED:20230928T155432Z
LAST-MODIFIED:20230928T161629Z
UID:8397-1701766800-1701770400@theguardiansofmartincounty.com
SUMMARY:Board of County Commissioners
DESCRIPTION:BOCC Regular Meeting & annual BOCC Organization
URL:https://theguardiansofmartincounty.com/event/board-of-county-commissioners-6/
LOCATION:BOCC Commissions Chamber\, 2401 SE Monterey Rd.\, Stuart\, FL\, 34996\, United States
END:VEVENT
BEGIN:VEVENT
DTSTART;TZID=America/New_York:20231121T090000
DTEND;TZID=America/New_York:20231121T100000
DTSTAMP:20260424T002753
CREATED:20230928T155328Z
LAST-MODIFIED:20230928T161552Z
UID:8395-1700557200-1700560800@theguardiansofmartincounty.com
SUMMARY:Board of County Commissioners
DESCRIPTION:
URL:https://theguardiansofmartincounty.com/event/board-of-county-commissioners-5/
LOCATION:BOCC Commissions Chamber\, 2401 SE Monterey Rd.\, Stuart\, FL\, 34996\, United States
END:VEVENT
BEGIN:VEVENT
DTSTART;TZID=America/New_York:20231116T110000
DTEND;TZID=America/New_York:20231116T123000
DTSTAMP:20260424T002753
CREATED:20230928T152345Z
LAST-MODIFIED:20230928T152345Z
UID:8382-1700132400-1700137800@theguardiansofmartincounty.com
SUMMARY:Rivers Coalition
DESCRIPTION:
URL:https://theguardiansofmartincounty.com/event/rivers-coalition-3/
LOCATION:City of Stuart City Hall – Commissions Chambers\, 121 SW Flagler Ave\, Stuart\, FL\, 34995
END:VEVENT
BEGIN:VEVENT
DTSTART;TZID=America/New_York:20231107T090000
DTEND;TZID=America/New_York:20231107T100000
DTSTAMP:20260424T002753
CREATED:20230928T155212Z
LAST-MODIFIED:20230928T161453Z
UID:8393-1699347600-1699351200@theguardiansofmartincounty.com
SUMMARY:Board of County Commissioners
DESCRIPTION:
URL:https://theguardiansofmartincounty.com/event/board-of-county-commissioners-4/
LOCATION:BOCC Commissions Chamber\, 2401 SE Monterey Rd.\, Stuart\, FL\, 34996\, United States
END:VEVENT
BEGIN:VEVENT
DTSTART;TZID=America/New_York:20231026T110000
DTEND;TZID=America/New_York:20231026T123000
DTSTAMP:20260424T002753
CREATED:20230928T152217Z
LAST-MODIFIED:20230928T152217Z
UID:8380-1698318000-1698323400@theguardiansofmartincounty.com
SUMMARY:Rivers Coalition
DESCRIPTION:
URL:https://theguardiansofmartincounty.com/event/rivers-coalition-2/
LOCATION:City of Stuart City Hall – Commissions Chambers\, 121 SW Flagler Ave\, Stuart\, FL\, 34995
END:VEVENT
BEGIN:VEVENT
DTSTART;TZID=America/New_York:20231025T160000
DTEND;TZID=America/New_York:20231025T170000
DTSTAMP:20260424T002753
CREATED:20230928T162526Z
LAST-MODIFIED:20230928T162526Z
UID:8413-1698249600-1698253200@theguardiansofmartincounty.com
SUMMARY:Construction Industry Licensing Board
DESCRIPTION:
URL:https://theguardiansofmartincounty.com/event/construction-industry-licensing-board/
LOCATION:BOCC Commissions Chamber\, 2401 SE Monterey Rd.\, Stuart\, FL\, 34996\, United States
END:VEVENT
END:VCALENDAR